BEGIN:VCALENDAR
VERSION:2.0
PRODID:-//St. Louis BBQ Society - ECPv6.15.20//NONSGML v1.0//EN
CALSCALE:GREGORIAN
METHOD:PUBLISH
X-ORIGINAL-URL:https://stlouisbbqsociety.com
X-WR-CALDESC:Events for St. Louis BBQ Society
REFRESH-INTERVAL;VALUE=DURATION:PT1H
X-Robots-Tag:noindex
X-PUBLISHED-TTL:PT1H
BEGIN:VTIMEZONE
TZID:America/Chicago
BEGIN:DAYLIGHT
TZOFFSETFROM:-0600
TZOFFSETTO:-0500
TZNAME:CDT
DTSTART:20240310T080000
END:DAYLIGHT
BEGIN:STANDARD
TZOFFSETFROM:-0500
TZOFFSETTO:-0600
TZNAME:CST
DTSTART:20241103T070000
END:STANDARD
BEGIN:DAYLIGHT
TZOFFSETFROM:-0600
TZOFFSETTO:-0500
TZNAME:CDT
DTSTART:20250309T080000
END:DAYLIGHT
BEGIN:STANDARD
TZOFFSETFROM:-0500
TZOFFSETTO:-0600
TZNAME:CST
DTSTART:20251102T070000
END:STANDARD
BEGIN:DAYLIGHT
TZOFFSETFROM:-0600
TZOFFSETTO:-0500
TZNAME:CDT
DTSTART:20260308T080000
END:DAYLIGHT
BEGIN:STANDARD
TZOFFSETFROM:-0500
TZOFFSETTO:-0600
TZNAME:CST
DTSTART:20261101T070000
END:STANDARD
END:VTIMEZONE
BEGIN:VEVENT
DTSTART;TZID=America/Chicago:20251101T080000
DTEND;TZID=America/Chicago:20251102T170000
DTSTAMP:20260421T070244
CREATED:20250728T112105Z
LAST-MODIFIED:20251026T110807Z
UID:10000207-1761984000-1762102800@stlouisbbqsociety.com
SUMMARY:BBQ is R-Journey
DESCRIPTION:The St Louis BBQ Society (SLBS) requires that you be a member in good standing to compete or judge in our events. Please visit member.stlouisbbqsociety.com  to sign up\, renew\, or check your status. \n\n\n\nDocs\nDocs\n\nDownload a Blank Application\n\nDo you need your team number? You can find this number on our website at: https://stlouisbbqsociety.com/team-listing.  \n If you do not see your name on this list and this is your first contest with us\, please enter “New Team” in the team number blank.
URL:https://stlouisbbqsociety.com/event/bbq-is-r-journey/
LOCATION:R-Journey – Perryville\, MO\, 300 Lake Drive\, Perryville\, MO\, 63775\, United States
CATEGORIES:Pro Series BBQ Competition
ATTACH;FMTTYPE=image/png:https://stlouisbbqsociety.com/wp-content/uploads/2025/07/Cancelled.png
ORGANIZER;CN="Frank Schmer":MAILTO:stlhomefires@sbcglobal.net
END:VEVENT
END:VCALENDAR