BEGIN:VCALENDAR
VERSION:2.0
PRODID:-//St. Louis BBQ Society - ECPv6.15.20//NONSGML v1.0//EN
CALSCALE:GREGORIAN
METHOD:PUBLISH
X-WR-CALNAME:St. Louis BBQ Society
X-ORIGINAL-URL:https://stlouisbbqsociety.com
X-WR-CALDESC:Events for St. Louis BBQ Society
REFRESH-INTERVAL;VALUE=DURATION:PT1H
X-Robots-Tag:noindex
X-PUBLISHED-TTL:PT1H
BEGIN:VTIMEZONE
TZID:America/Chicago
BEGIN:DAYLIGHT
TZOFFSETFROM:-0600
TZOFFSETTO:-0500
TZNAME:CDT
DTSTART:20250309T080000
END:DAYLIGHT
BEGIN:STANDARD
TZOFFSETFROM:-0500
TZOFFSETTO:-0600
TZNAME:CST
DTSTART:20251102T070000
END:STANDARD
BEGIN:DAYLIGHT
TZOFFSETFROM:-0600
TZOFFSETTO:-0500
TZNAME:CDT
DTSTART:20260308T080000
END:DAYLIGHT
BEGIN:STANDARD
TZOFFSETFROM:-0500
TZOFFSETTO:-0600
TZNAME:CST
DTSTART:20261101T070000
END:STANDARD
BEGIN:DAYLIGHT
TZOFFSETFROM:-0600
TZOFFSETTO:-0500
TZNAME:CDT
DTSTART:20270314T080000
END:DAYLIGHT
BEGIN:STANDARD
TZOFFSETFROM:-0500
TZOFFSETTO:-0600
TZNAME:CST
DTSTART:20271107T070000
END:STANDARD
END:VTIMEZONE
BEGIN:VEVENT
DTSTART;VALUE=DATE:20260918
DTEND;VALUE=DATE:20260920
DTSTAMP:20260422T135113
CREATED:20241201T141631Z
LAST-MODIFIED:20260327T223003Z
UID:10000186-1789689600-1789862399@stlouisbbqsociety.com
SUMMARY:9th Annual Farmington B3 - 2026
DESCRIPTION:  \n \nThe St Louis BBQ Society (SLBS) requires that you be a member in good standing to compete or judge in our events. Please visit member.stlouisbbqsociety.com  to sign up\, renew\, or check your status. \n\n\n\nDo you need your team number? You can find this number on our website at: https://stlouisbbqsociety.com/team-listing.  \n If you do not see your name on this list and this is your first contest with us\, please enter “New Team” in the team number blank.
URL:https://stlouisbbqsociety.com/event/9th-annual-farmington-b3-2026/
LOCATION:City of Farmington\, 110 W Columbia\, Farmington\, MO\, 63640\, United States
CATEGORIES:Pro Series BBQ Competition
ATTACH;FMTTYPE=image/png:https://stlouisbbqsociety.com/wp-content/uploads/2024/12/BBQ-Flyer.png
ORGANIZER;CN="Jeremy Horton":MAILTO:jeremyhorton@gmail.com
END:VEVENT
BEGIN:VEVENT
DTSTART;TZID=America/Chicago:20260919T110000
DTEND;TZID=America/Chicago:20260919T110000
DTSTAMP:20260422T135113
CREATED:20260316T011450Z
LAST-MODIFIED:20260316T011450Z
UID:10000269-1789815600-1789815600@stlouisbbqsociety.com
SUMMARY:Judge - Farmington Blues\, Brews\, & BBQ 2026 (Pro-Series)
DESCRIPTION:If you are a certified St Louis BBQ Society (SLBS) barbecue judge and you would like to judge this contest\, please register through this page to judge. \nJudging will be filled in the order that we receive the registrations.  You will be notified later by email if you have been selected to judge. \n  \n\nThe St Louis BBQ Society (SLBS) requires that you be a member in good standing to compete or judge in our events. Please visit member.stlouisbbqsociety.com  to sign up\, renew\, or check your status.
URL:https://stlouisbbqsociety.com/event/judge-farmington-blues-brews-bbq-2026-pro-series/
LOCATION:Farmington City Hall\, 110 West Columbia Street\, Farmington\, MO\, 63640\, United States
CATEGORIES:Judging Opportunities
ORGANIZER;CN="SLBS Judging":MAILTO:judging@stlouisbbqsociety.com
GEO:37.7799695;-90.4226917
X-APPLE-STRUCTURED-LOCATION;VALUE=URI;X-ADDRESS=Farmington City Hall 110 West Columbia Street Farmington MO 63640 United States;X-APPLE-RADIUS=500;X-TITLE=110 West Columbia Street:geo:-90.4226917,37.7799695
END:VEVENT
BEGIN:VEVENT
DTSTART;TZID=America/Chicago:20260926T080000
DTEND;TZID=America/Chicago:20260927T170000
DTSTAMP:20260422T135113
CREATED:20260325T145541Z
LAST-MODIFIED:20260325T145541Z
UID:10000277-1790409600-1790528400@stlouisbbqsociety.com
SUMMARY:Hoyleton Octfest and BBQ Bash
DESCRIPTION:
URL:https://stlouisbbqsociety.com/event/hoyleton-octfest-and-bbq-bash/
LOCATION:Hoyleton Community Club\, 368 N. Park St.\, Hoyleton\, IL\, 62803\, United States
CATEGORIES:Open Series BBQ Competition
ATTACH;FMTTYPE=image/jpeg:https://stlouisbbqsociety.com/wp-content/uploads/2017/05/save-the-date.jpg
END:VEVENT
BEGIN:VEVENT
DTSTART;TZID=America/Chicago:20261009T080000
DTEND;TZID=America/Chicago:20261010T170000
DTSTAMP:20260422T135113
CREATED:20260204T222012Z
LAST-MODIFIED:20260324T213154Z
UID:10000242-1791532800-1791651600@stlouisbbqsociety.com
SUMMARY:Sizzlin on 66 Granite City Great BBQ Throw Down
DESCRIPTION:
URL:https://stlouisbbqsociety.com/event/sizzlin-on-66-granite-city-great-bbq-throw-down/
LOCATION:City of Granite City\, 1300 Niedringhaus Ave\, Granite City\, IL\, 62040\, United States
CATEGORIES:Pro Series BBQ Competition
ATTACH;FMTTYPE=image/jpeg:https://stlouisbbqsociety.com/wp-content/uploads/2026/02/1886.jpg
ORGANIZER;CN="Bill Whitaker":MAILTO:bwhitaker@granitecityillinois.gov
END:VEVENT
BEGIN:VEVENT
DTSTART;TZID=America/Chicago:20261010T110000
DTEND;TZID=America/Chicago:20261010T140000
DTSTAMP:20260422T135113
CREATED:20260316T012414Z
LAST-MODIFIED:20260316T012522Z
UID:10000270-1791630000-1791640800@stlouisbbqsociety.com
SUMMARY:Judge - Sizzlin on 66 Granite City Great BBQ Throw Down (Pro-Series)
DESCRIPTION:If you are a certified St Louis BBQ Society (SLBS) barbecue judge and you would like to judge this contest\, please register through this page to judge. \nJudging will be filled in the order that we receive the registrations.  You will be notified later by email if you have been selected to judge. \n  \n\nThe St Louis BBQ Society (SLBS) requires that you be a member in good standing to compete or judge in our events. Please visit member.stlouisbbqsociety.com  to sign up\, renew\, or check your status.
URL:https://stlouisbbqsociety.com/event/judge-sizzlin-on-66-granite-city-great-bbq-throw-down-pro-series/
LOCATION:City of Granite City\, 1300 Niedringhaus Ave\, Granite City\, IL\, 62040\, United States
CATEGORIES:Judging Opportunities
ORGANIZER;CN="SLBS Judging":MAILTO:judging@stlouisbbqsociety.com
END:VEVENT
BEGIN:VEVENT
DTSTART;VALUE=DATE:20261023
DTEND;VALUE=DATE:20261025
DTSTAMP:20260422T135113
CREATED:20250806T173240Z
LAST-MODIFIED:20251121T005920Z
UID:10000213-1792713600-1792886399@stlouisbbqsociety.com
SUMMARY:3rd Annual Gateway to the Ozarks BBQ Cook-off
DESCRIPTION:The St Louis BBQ Society (SLBS) requires that you be a member in good standing to compete or judge in our events. Please visit member.stlouisbbqsociety.com  to sign up\, renew\, or check your status. \n\n  \n\nDo you need your team number? You can find this number on our website at: https://stlouisbbqsociety.com/team-listing.  \n If you do not see your name on this list and this is your first contest with us\, please enter “New Team” in the team number blank.
URL:https://stlouisbbqsociety.com/event/3rd-annual-gateway-to-the-ozarks-bbq-cook-off/
LOCATION:MK BBQ Sullivan Chamber of Commerce\, 202 North Clark Street\, Sullivan\, MO\, 63080\, United States
CATEGORIES:Pro Series BBQ Competition
ATTACH;FMTTYPE=image/jpeg:https://stlouisbbqsociety.com/wp-content/uploads/2017/05/save-the-date.jpg
ORGANIZER;CN="Edward Kirk":MAILTO:MKBBQLLC@gmail.com
END:VEVENT
BEGIN:VEVENT
DTSTART;TZID=America/Chicago:20261024T110000
DTEND;TZID=America/Chicago:20261024T140000
DTSTAMP:20260422T135113
CREATED:20260316T011947Z
LAST-MODIFIED:20260316T011947Z
UID:10000272-1792839600-1792850400@stlouisbbqsociety.com
SUMMARY:Judge - 3rd Annual Gateway to the Ozarks BBQ Cook-off (Pro-Series)
DESCRIPTION:If you are a certified St Louis BBQ Society (SLBS) barbecue judge and you would like to judge this contest\, please register through this page to judge. \nJudging will be filled in the order that we receive the registrations.  You will be notified later by email if you have been selected to judge. \n  \n\nThe St Louis BBQ Society (SLBS) requires that you be a member in good standing to compete or judge in our events. Please visit member.stlouisbbqsociety.com  to sign up\, renew\, or check your status.
URL:https://stlouisbbqsociety.com/event/judge-3rd-annual-gateway-to-the-ozarks-bbq-cook-off-pro-series/
LOCATION:MK BBQ Sullivan Chamber of Commerce\, 202 North Clark Street\, Sullivan\, MO\, 63080\, United States
CATEGORIES:Judging Opportunities
ORGANIZER;CN="SLBS Judging":MAILTO:judging@stlouisbbqsociety.com
END:VEVENT
BEGIN:VEVENT
DTSTART;TZID=America/Chicago:20261107T110000
DTEND;TZID=America/Chicago:20261107T140000
DTSTAMP:20260422T135113
CREATED:20260316T012954Z
LAST-MODIFIED:20260316T012954Z
UID:10000274-1794049200-1794060000@stlouisbbqsociety.com
SUMMARY:Judge - Smokin For Veterans BBQ Bash (Open)
DESCRIPTION:If you are a certified St Louis BBQ Society (SLBS) barbecue judge and you would like to judge this contest\, please register through this page to judge. \nJudging will be filled in the order that we receive the registrations.  You will be notified later by email if you have been selected to judge. \n  \n\nThe St Louis BBQ Society (SLBS) requires that you be a member in good standing to compete or judge in our events. Please visit member.stlouisbbqsociety.com  to sign up\, renew\, or check your status.
URL:https://stlouisbbqsociety.com/event/judge-smokin-for-veterans-bbq-bash-open/
LOCATION:Clancy’s Irish Pub\, 40 Old State Rd\, Ellisville\, MO\, 63021\, United States
CATEGORIES:Judging Opportunities
ORGANIZER;CN="SLBS Judging":MAILTO:judging@stlouisbbqsociety.com
GEO:38.588325;-90.5961292
X-APPLE-STRUCTURED-LOCATION;VALUE=URI;X-ADDRESS=Clancy’s Irish Pub 40 Old State Rd Ellisville MO 63021 United States;X-APPLE-RADIUS=500;X-TITLE=40 Old State Rd:geo:-90.5961292,38.588325
END:VEVENT
END:VCALENDAR