BEGIN:VCALENDAR
VERSION:2.0
PRODID:-//St. Louis BBQ Society - ECPv6.15.20//NONSGML v1.0//EN
CALSCALE:GREGORIAN
METHOD:PUBLISH
X-WR-CALNAME:St. Louis BBQ Society
X-ORIGINAL-URL:https://stlouisbbqsociety.com
X-WR-CALDESC:Events for St. Louis BBQ Society
REFRESH-INTERVAL;VALUE=DURATION:PT1H
X-Robots-Tag:noindex
X-PUBLISHED-TTL:PT1H
BEGIN:VTIMEZONE
TZID:America/Chicago
BEGIN:DAYLIGHT
TZOFFSETFROM:-0600
TZOFFSETTO:-0500
TZNAME:CDT
DTSTART:20240310T080000
END:DAYLIGHT
BEGIN:STANDARD
TZOFFSETFROM:-0500
TZOFFSETTO:-0600
TZNAME:CST
DTSTART:20241103T070000
END:STANDARD
BEGIN:DAYLIGHT
TZOFFSETFROM:-0600
TZOFFSETTO:-0500
TZNAME:CDT
DTSTART:20250309T080000
END:DAYLIGHT
BEGIN:STANDARD
TZOFFSETFROM:-0500
TZOFFSETTO:-0600
TZNAME:CST
DTSTART:20251102T070000
END:STANDARD
BEGIN:DAYLIGHT
TZOFFSETFROM:-0600
TZOFFSETTO:-0500
TZNAME:CDT
DTSTART:20260308T080000
END:DAYLIGHT
BEGIN:STANDARD
TZOFFSETFROM:-0500
TZOFFSETTO:-0600
TZNAME:CST
DTSTART:20261101T070000
END:STANDARD
END:VTIMEZONE
BEGIN:VEVENT
DTSTART;TZID=America/Chicago:20250920T110000
DTEND;TZID=America/Chicago:20250920T140000
DTSTAMP:20260422T195909
CREATED:20250504T013349Z
LAST-MODIFIED:20250906T214649Z
UID:10000199-1758366000-1758376800@stlouisbbqsociety.com
SUMMARY:Judge the Farmington B3 - 2025 (Pro Series)
DESCRIPTION:If you are a certified St Louis BBQ Society (SLBS) barbecue judge and you would like to judge this contest\, please register through this page to judge. \nYou will be notified later by email if you have been selected to judge. \n\nThe St Louis BBQ Society (SLBS) requires that you be a member in good standing to compete or judge in our events. Please visit member.stlouisbbqsociety.com  to sign up\, renew\, or check your status. \n 
URL:https://stlouisbbqsociety.com/event/25555/
LOCATION:Farmington City Hall\, 110 West Columbia Street\, Farmington\, MO\, 63640\, United States
CATEGORIES:Judging Opportunities
ATTACH;FMTTYPE=image/jpeg:https://stlouisbbqsociety.com/wp-content/uploads/2025/07/Judging-Image.jpg
ORGANIZER;CN="SLBS Judging":MAILTO:judging@stlouisbbqsociety.com
GEO:37.7799695;-90.4226917
X-APPLE-STRUCTURED-LOCATION;VALUE=URI;X-ADDRESS=Farmington City Hall 110 West Columbia Street Farmington MO 63640 United States;X-APPLE-RADIUS=500;X-TITLE=110 West Columbia Street:geo:-90.4226917,37.7799695
END:VEVENT
BEGIN:VEVENT
DTSTART;TZID=America/Chicago:20250920T070000
DTEND;TZID=America/Chicago:20250920T210000
DTSTAMP:20260422T195909
CREATED:20250806T123426Z
LAST-MODIFIED:20250806T154659Z
UID:10000212-1758351600-1758402000@stlouisbbqsociety.com
SUMMARY:Celebrate Wildwood - Volunteers Needed
DESCRIPTION:The St Louis BBQ Society has once again been invited to cook and raise money at the Celebrate Wildwood (Wildwood Days) at Wildwood Town Center.  These funds will be used to support SLBS activities. \nPlease come out to work and have fun as we raise money for the SLBS. \nVolunteers Needed\nSaturday 9/20 \n\n\n\nTime/Position\nSet up\nFood line\nGrill master\nPit master\n\n\n(7:00am-9:00am)\n4 needed\n\n\n\n\n\n(8:30am-10:30am)\n\n\n1 needed\n1 needed\n\n\n(9:00am-12:00pm)\n\n4 needed\n\n\n\n\n(10:30am-1:30pm)\n\n\n1 needed\n1 needed\n\n\n(12:00pm-3:00pm)\n\n4 needed\n\n\n\n\n(1:30pm-4:30pm)\n\n\n1 needed\n1 needed\n\n\n(3:00pm-6:00pm)\n\n4 needed\n\n\n\n\n(4:30pm-8:30pm)\n\n\n1 needed\n1 needed\n\n\n(6:00pm-9:00pm)\n\n4 needed\n\n\n\n\n\n 
URL:https://stlouisbbqsociety.com/event/celebrate-wildwood-volunteers-needed-2/
LOCATION:Wildwood Town Center\, 16700 Main Street\, Wildwood\, MO\, 63040\, United States
CATEGORIES:Charity Event,Fundraisers
ATTACH;FMTTYPE=image/png:https://stlouisbbqsociety.com/wp-content/uploads/2025/08/Celebrate-Wildwood.png
ORGANIZER;CN="SLBS Charity Committee":MAILTO:charity@stlouisbbqsociety.com
GEO:38.580624;-90.628758
X-APPLE-STRUCTURED-LOCATION;VALUE=URI;X-ADDRESS=Wildwood Town Center 16700 Main Street Wildwood MO 63040 United States;X-APPLE-RADIUS=500;X-TITLE=16700 Main Street:geo:-90.628758,38.580624
END:VEVENT
BEGIN:VEVENT
DTSTART;TZID=America/Chicago:20250823T130000
DTEND;TZID=America/Chicago:20250823T150000
DTSTAMP:20260422T195909
CREATED:20250728T230856Z
LAST-MODIFIED:20250813T013747Z
UID:10000208-1755954000-1755961200@stlouisbbqsociety.com
SUMMARY:Staunton Rib Fest 2025 - Open Series
DESCRIPTION:If you are a certified St Louis BBQ Society (SLBS) barbecue judge and you would like to judge this contest\, please register through this page to judge. \nYou will be notified later by email if you have been selected to judge. \n\nThe St Louis BBQ Society (SLBS) requires that you be a member in good standing to compete or judge in our events. Please visit member.stlouisbbqsociety.com  to sign up\, renew\, or check your status. \n 
URL:https://stlouisbbqsociety.com/event/judge-the-staunton-rib-fest-2025-open-series/
LOCATION:Fireman’s Park\, 900 E Montgomery St\, Staunton\, IL\, 62088\, United States
CATEGORIES:Judging Opportunities
ATTACH;FMTTYPE=image/jpeg:https://stlouisbbqsociety.com/wp-content/uploads/2025/07/Judging-Image.jpg
ORGANIZER;CN="SLBS Judging":MAILTO:judging@stlouisbbqsociety.com
GEO:39.0120773;-89.7913739
X-APPLE-STRUCTURED-LOCATION;VALUE=URI;X-ADDRESS=Fireman’s Park 900 E Montgomery St Staunton IL 62088 United States;X-APPLE-RADIUS=500;X-TITLE=900 E Montgomery St:geo:-89.7913739,39.0120773
END:VEVENT
BEGIN:VEVENT
DTSTART;TZID=America/Chicago:20250823T100000
DTEND;TZID=America/Chicago:20250823T170000
DTSTAMP:20260422T195909
CREATED:20250729T004004Z
LAST-MODIFIED:20250816T002351Z
UID:10000209-1755943200-1755968400@stlouisbbqsociety.com
SUMMARY:Newton Smoke-off – 2025 (Pro-Series)
DESCRIPTION:If you are a certified St Louis BBQ Society (SLBS) barbecue judge and you would like to judge this contest\, please register through this page to judge. \nJudging will be filled in the order that we receive the registrations.  You will be notified later by email if you have been selected to judge. \n  \n\nThe St Louis BBQ Society (SLBS) requires that you be a member in good standing to compete or judge in our events. Please visit member.stlouisbbqsociety.com  to sign up\, renew\, or check your status.
URL:https://stlouisbbqsociety.com/event/newton-smoke-off-2025-pro-series/
LOCATION:Jasper County Fairgrounds\, 1300 Fairgrounds Ave\,\, Newton\, IL\, 62448\, United States
CATEGORIES:Judging Opportunities
ATTACH;FMTTYPE=image/jpeg:https://stlouisbbqsociety.com/wp-content/uploads/2025/07/Judging-Image.jpg
ORGANIZER;CN="SLBS Judging":MAILTO:judging@stlouisbbqsociety.com
END:VEVENT
BEGIN:VEVENT
DTSTART;VALUE=DATE:20250823
DTEND;VALUE=DATE:20250824
DTSTAMP:20260422T195909
CREATED:20250610T130932Z
LAST-MODIFIED:20250610T131909Z
UID:10000204-1755907200-1755993599@stlouisbbqsociety.com
SUMMARY:Staunton RibFest
DESCRIPTION:The St Louis BBQ Society (SLBS) requires that you be a member in good standing to compete or judge in our events. Please visit member.stlouisbbqsociety.com  to sign up\, renew\, or check your status. \n\n\n\nDo you need your team number? You can find this number on our website at: https://stlouisbbqsociety.com/team-listing.  \n If you do not see your name on this list and this is your first contest with us\, please enter “New Team” in the team number blank.
URL:https://stlouisbbqsociety.com/event/staunton-rib-fest-2/
LOCATION:Fireman’s Park\, 900 E Montgomery St\, Staunton\, IL\, 62088\, United States
CATEGORIES:Open Series BBQ Competition
ATTACH;FMTTYPE=image/png:https://stlouisbbqsociety.com/wp-content/uploads/2023/10/438237955_120211300903030432_526.png
GEO:39.0120773;-89.7913739
X-APPLE-STRUCTURED-LOCATION;VALUE=URI;X-ADDRESS=Fireman’s Park 900 E Montgomery St Staunton IL 62088 United States;X-APPLE-RADIUS=500;X-TITLE=900 E Montgomery St:geo:-89.7913739,39.0120773
END:VEVENT
BEGIN:VEVENT
DTSTART;TZID=America/Chicago:20250822T080000
DTEND;TZID=America/Chicago:20250823T170000
DTSTAMP:20260422T195909
CREATED:20250723T114324Z
LAST-MODIFIED:20250723T140228Z
UID:10000206-1755849600-1755968400@stlouisbbqsociety.com
SUMMARY:Newton American Legion Post 20 2nd Annual BBQ Competition
DESCRIPTION:The St Louis BBQ Society (SLBS) requires that you be a member in good standing to compete or judge in our events. Please visit member.stlouisbbqsociety.com to sign up\, renew\, or check your status.\n\n\n\n\n\nDo you need your team number? You can find this number on our website at: https://stlouisbbqsociety.com/team-listing.  \nIf you do not see your name on this list and this is your first contest with us\, please enter “New Team” in the team number blank.
URL:https://stlouisbbqsociety.com/event/newton-american-legion-post-20-2nd-annual-bbq-competition/
LOCATION:Jasper County Fairgrounds\, 1300 Fairgrounds Ave\,\, Newton\, IL\, 62448\, United States
CATEGORIES:Open Series BBQ Competition
ATTACH;FMTTYPE=image/png:https://stlouisbbqsociety.com/wp-content/uploads/2025/07/Newton-American-Legion-Post-20.png
END:VEVENT
BEGIN:VEVENT
DTSTART;TZID=America/Chicago:20250816T130000
DTEND;TZID=America/Chicago:20250816T150000
DTSTAMP:20260422T195909
CREATED:20250518T225802Z
LAST-MODIFIED:20250518T225802Z
UID:10000202-1755349200-1755356400@stlouisbbqsociety.com
SUMMARY:9MG-BBQ Bourbon and Brews - 2025 (Backyard)
DESCRIPTION:If you are a certified St Louis BBQ Society (SLBS) barbecue judge and you would like to judge this contest\, please register through this page to judge. \nYou will be notified later by email if you have been selected to judge. \n\nThe St Louis BBQ Society (SLBS) requires that you be a member in good standing to compete or judge in our events. Please visit member.stlouisbbqsociety.com  to sign up\, renew\, or check your status. \n 
URL:https://stlouisbbqsociety.com/event/9mg-bbq-bourbon-and-brews-2025-backyard/
LOCATION:9 Mile Garden\, 9355 Gravois Rd\, Affton\, MO\, 63123\, United States
CATEGORIES:Judging Opportunities
ATTACH;FMTTYPE=image/jpeg:https://stlouisbbqsociety.com/wp-content/uploads/2016/05/judging-scaled.jpg
ORGANIZER;CN="SLBS Judging":MAILTO:judging@stlouisbbqsociety.com
END:VEVENT
BEGIN:VEVENT
DTSTART;VALUE=DATE:20250816
DTEND;VALUE=DATE:20250817
DTSTAMP:20260422T195909
CREATED:20241010T153243Z
LAST-MODIFIED:20250327T123913Z
UID:10000179-1755302400-1755388799@stlouisbbqsociety.com
SUMMARY:9MG-BBQ Bourbon and Brews - 2025
DESCRIPTION:The St Louis BBQ Society (SLBS) requires that you be a member in good standing to compete or judge in our events. Please visit member.stlouisbbqsociety.com  to sign up\, renew\, or check your status.\n\n\n \n\nDocs\nDocs\n\nDownload a Blank Application\n\n\n\nDo you need your team number? You can find this number on our website at: https://stlouisbbqsociety.com/team-listing.  \n If you do not see your name on this list and this is your first contest with us\, please enter “New Team” in the team number blank.
URL:https://stlouisbbqsociety.com/event/9mg-bbq-bourbon-and-brews-2025/
LOCATION:9 Mile Garden\, 9355 Gravois Rd\, Affton\, MO\, 63123\, United States
CATEGORIES:Backyard Series BBQ Competition
ATTACH;FMTTYPE=image/jpeg:https://stlouisbbqsociety.com/wp-content/uploads/2025/03/bbb2025.jpg
ORGANIZER;CN="9-Mile Garden":MAILTO:events@9milegarden.com
END:VEVENT
BEGIN:VEVENT
DTSTART;VALUE=DATE:20250712
DTEND;VALUE=DATE:20250713
DTSTAMP:20260422T195909
CREATED:20240907T151945Z
LAST-MODIFIED:20250707T173548Z
UID:10000173-1752278400-1752364799@stlouisbbqsociety.com
SUMMARY:SLBS Golf Tournament - 2025
DESCRIPTION:
URL:https://stlouisbbqsociety.com/event/slbs-golf-tournament/
LOCATION:The Golf Club of Wentzville\, 9 Pro Shop Dr\, Wentzville\, MO\, 63385\, United States
CATEGORIES:Member Events,Fundraisers
ATTACH;FMTTYPE=image/png:https://stlouisbbqsociety.com/wp-content/uploads/2024/09/SLBS-Charity-Golf-scaled.png
ORGANIZER;CN="SLBS Charity Committee":MAILTO:charity@stlouisbbqsociety.com
GEO:38.7914872;-90.8968181
X-APPLE-STRUCTURED-LOCATION;VALUE=URI;X-ADDRESS=The Golf Club of Wentzville 9 Pro Shop Dr Wentzville MO 63385 United States;X-APPLE-RADIUS=500;X-TITLE=9 Pro Shop Dr:geo:-90.8968181,38.7914872
END:VEVENT
BEGIN:VEVENT
DTSTART;TZID=America/Chicago:20250628T130000
DTEND;TZID=America/Chicago:20250628T150000
DTSTAMP:20260422T195909
CREATED:20250518T212746Z
LAST-MODIFIED:20250519T015226Z
UID:10000201-1751115600-1751122800@stlouisbbqsociety.com
SUMMARY:STC BBQ Festival in New Town (Backyard)
DESCRIPTION:If you are a certified St Louis BBQ Society (SLBS) barbecue judge and you would like to judge this contest\, please register through this page to judge. \nJudging will be filled in the order that we receive the registrations.  You will be notified later by email if you have been selected to judge. \n  \n\nThe St Louis BBQ Society (SLBS) requires that you be a member in good standing to compete or judge in our events. Please visit member.stlouisbbqsociety.com  to sign up\, renew\, or check your status.
URL:https://stlouisbbqsociety.com/event/stc-bbq-festival-in-new-town-backyard/
LOCATION:New Town Amphitheatre\, RGP4+J4\, St Charles\, MO\, 63301\, United States
CATEGORIES:Judging Opportunities
ATTACH;FMTTYPE=image/jpeg:https://stlouisbbqsociety.com/wp-content/uploads/2016/05/judging-scaled.jpg
ORGANIZER;CN="SLBS Judging":MAILTO:judging@stlouisbbqsociety.com
END:VEVENT
BEGIN:VEVENT
DTSTART;TZID=America/Chicago:20250628T110000
DTEND;TZID=America/Chicago:20250628T210000
DTSTAMP:20260422T195909
CREATED:20250512T112353Z
LAST-MODIFIED:20250512T143139Z
UID:10000200-1751108400-1751144400@stlouisbbqsociety.com
SUMMARY:STC BBQ Festival in New Town
DESCRIPTION:The St Louis BBQ Society (SLBS) requires that you be a member in good standing to compete or judge in our events. Please visit member.stlouisbbqsociety.com  to sign up\, renew\, or check your status. \n\n\n\nRegister HERE \n\n\n\n\nDo you need your team number? You can find this number on our website at: https://stlouisbbqsociety.com/team-listing.  \n If you do not see your name on this list and this is your first contest with us\, please enter “New Team” in the team number blank.
URL:https://stlouisbbqsociety.com/event/stc-bbq-festival-in-new-town/
LOCATION:New Town Amphitheatre\, RGP4+J4\, St Charles\, MO\, 63301\, United States
CATEGORIES:Backyard Series BBQ Competition
ATTACH;FMTTYPE=image/png:https://stlouisbbqsociety.com/wp-content/uploads/2025/05/STC-BBQ-Festival.png
END:VEVENT
BEGIN:VEVENT
DTSTART;TZID=America/Chicago:20250621T110000
DTEND;TZID=America/Chicago:20250621T140000
DTSTAMP:20260422T195909
CREATED:20250504T012655Z
LAST-MODIFIED:20250601T204125Z
UID:10000198-1750503600-1750514400@stlouisbbqsociety.com
SUMMARY:Route 66 BBQ and Bluegrass Festival (Pro-Series)
DESCRIPTION:If you are a certified St Louis BBQ Society (SLBS) barbecue judge and you would like to judge this contest\, please register through this page to judge. \nJudging will be filled in the order that we receive the registrations.  You will be notified later by email if you have been selected to judge. \n  \n\nThe St Louis BBQ Society (SLBS) requires that you be a member in good standing to compete or judge in our events. Please visit member.stlouisbbqsociety.com  to sign up\, renew\, or check your status.
URL:https://stlouisbbqsociety.com/event/route-66-bbq-and-bluegrass-festival-pro-series/
LOCATION:Route 66 BBQ and Blu Pacific\, 101 W Pacific ST\, Pacific\, MO\, 63069\, United States
CATEGORIES:Judging Opportunities
ATTACH;FMTTYPE=image/jpeg:https://stlouisbbqsociety.com/wp-content/uploads/2016/05/judging-scaled.jpg
ORGANIZER;CN="SLBS Judging":MAILTO:judging@stlouisbbqsociety.com
END:VEVENT
BEGIN:VEVENT
DTSTART;VALUE=DATE:20250620
DTEND;VALUE=DATE:20250622
DTSTAMP:20260422T195909
CREATED:20250213T151530Z
LAST-MODIFIED:20250421T213309Z
UID:10000191-1750377600-1750550399@stlouisbbqsociety.com
SUMMARY:Route 66 BBQ and Bluegrass Festival
DESCRIPTION:The St Louis BBQ Society (SLBS) requires that you be a member in good standing to compete or judge in our events. Please visit member.stlouisbbqsociety.com  to sign up\, renew\, or check your status.\n\n\n\n\nDocs\nDocs\n\nDownload a Blank Application\n\n\n\nDo you need your team number? You can find this number on our website at: https://stlouisbbqsociety.com/team-listing.  \n If you do not see your name on this list and this is your first contest with us\, please enter “New Team” in the team number blank.
URL:https://stlouisbbqsociety.com/event/route-66-bbq-and-bluegrass-festival/
LOCATION:Liberty Fields Park\, 101 E Pacific ST\, Pacific\, MO\, 63069\, United States
CATEGORIES:Pro Series BBQ Competition
ATTACH;FMTTYPE=image/png:https://stlouisbbqsociety.com/wp-content/uploads/2025/04/Route-66-BBQ-and-Bluegrass-Festival.png
END:VEVENT
BEGIN:VEVENT
DTSTART;TZID=America/Chicago:20250614T110000
DTEND;TZID=America/Chicago:20250614T140000
DTSTAMP:20260422T195909
CREATED:20250504T010648Z
LAST-MODIFIED:20250605T002606Z
UID:10000197-1749898800-1749909600@stlouisbbqsociety.com
SUMMARY:Homestead BBQ Blast – 2025 (Pro-Series)
DESCRIPTION:If you are a certified St Louis BBQ Society (SLBS) barbecue judge and you would like to judge this contest\, please register through this page to judge. \nJudging will be filled in the order that we receive the registrations.  You will be notified later by email if you have been selected to judge. \n  \n\nThe St Louis BBQ Society (SLBS) requires that you be a member in good standing to compete or judge in our events. Please visit member.stlouisbbqsociety.com  to sign up\, renew\, or check your status.
URL:https://stlouisbbqsociety.com/event/homestead-bbq-blast-2025-pro-series/
LOCATION:Homestead Financial Mortgage\, 14897 Clayton Road\, Chesterfield\, MO\, 63017\, United States
CATEGORIES:Judging Opportunities
ATTACH;FMTTYPE=image/jpeg:https://stlouisbbqsociety.com/wp-content/uploads/2016/05/judging-scaled.jpg
ORGANIZER;CN="SLBS Judging":MAILTO:judging@stlouisbbqsociety.com
END:VEVENT
BEGIN:VEVENT
DTSTART;TZID=America/Chicago:20250613T183000
DTEND;TZID=America/Chicago:20250613T200000
DTSTAMP:20260422T195909
CREATED:20250504T010037Z
LAST-MODIFIED:20250607T233412Z
UID:10000196-1749839400-1749844800@stlouisbbqsociety.com
SUMMARY:Homestead BBQ Blast – 2025 (Ancillary)
DESCRIPTION:If you are a certified St Louis BBQ Society (SLBS) barbecue judge and you would like to judge this contest\, please register through this page to judge. \nJudging will be filled in the order that we receive the registrations.  You will be notified later by email if you have been selected to judge. \n  \n\nThe St Louis BBQ Society (SLBS) requires that you be a member in good standing to compete or judge in our events. Please visit member.stlouisbbqsociety.com  to sign up\, renew\, or check your status.
URL:https://stlouisbbqsociety.com/event/homestead-bbq-blast-2025-ancilary/
LOCATION:Homestead Financial Mortgage\, 14897 Clayton Road\, Chesterfield\, MO\, 63017\, United States
CATEGORIES:Judging Opportunities
ATTACH;FMTTYPE=image/jpeg:https://stlouisbbqsociety.com/wp-content/uploads/2016/05/judging-scaled.jpg
ORGANIZER;CN="SLBS Judging":MAILTO:judging@stlouisbbqsociety.com
END:VEVENT
BEGIN:VEVENT
DTSTART;VALUE=DATE:20250613
DTEND;VALUE=DATE:20250615
DTSTAMP:20260422T195909
CREATED:20241205T145302Z
LAST-MODIFIED:20250326T135956Z
UID:10000188-1749772800-1749945599@stlouisbbqsociety.com
SUMMARY:Homestead BBQ Blast - 2025
DESCRIPTION:The St Louis BBQ Society (SLBS) requires that you be a member in good standing to compete or judge in our events. Please visit member.stlouisbbqsociety.com  to sign up\, renew\, or check your status. \n\n\n\nDocs\nDocs\n\nDownload a Blank Application\n\nDo you need your team number? You can find this number on our website at: https://stlouisbbqsociety.com/team-listing.  \n If you do not see your name on this list and this is your first contest with us\, please enter “New Team” in the team number blank.
URL:https://stlouisbbqsociety.com/event/homestead-bbq-blast-2025/
LOCATION:Homestead Financial Mortgage\, 14897 Clayton Road\, Chesterfield\, MO\, 63017\, United States
CATEGORIES:Pro Series BBQ Competition
ATTACH;FMTTYPE=image/png:https://stlouisbbqsociety.com/wp-content/uploads/2025/03/Homestead-Featured.png
END:VEVENT
BEGIN:VEVENT
DTSTART;TZID=America/Chicago:20250531T110000
DTEND;TZID=America/Chicago:20250531T140000
DTSTAMP:20260422T195909
CREATED:20250427T220212Z
LAST-MODIFIED:20250504T013724Z
UID:10000195-1748689200-1748700000@stlouisbbqsociety.com
SUMMARY:Judge Smokin' In The Park 2025
DESCRIPTION:If you are a certified St Louis BBQ Society (SLBS) barbecue judge and you would like to judge this contest\, please register through this page to judge. \nYou will be notified later by email if you have been selected to judge. \n\nThe St Louis BBQ Society (SLBS) requires that you be a member in good standing to compete or judge in our events. Please visit member.stlouisbbqsociety.com  to sign up\, renew\, or check your status. \n 
URL:https://stlouisbbqsociety.com/event/judge-smokin-in-the-park-2025/
LOCATION:Turner Park\, 115 N Julia\, Smithton\, IL\, 62285\, United States
CATEGORIES:Judging Opportunities
ATTACH;FMTTYPE=image/jpeg:https://stlouisbbqsociety.com/wp-content/uploads/2016/05/judging-scaled.jpg
ORGANIZER;CN="SLBS Judging":MAILTO:judging@stlouisbbqsociety.com
GEO:38.409475;-89.993727
X-APPLE-STRUCTURED-LOCATION;VALUE=URI;X-ADDRESS=Turner Park 115 N Julia Smithton IL 62285 United States;X-APPLE-RADIUS=500;X-TITLE=115 N Julia:geo:-89.993727,38.409475
END:VEVENT
BEGIN:VEVENT
DTSTART;VALUE=DATE:20250530
DTEND;VALUE=DATE:20250601
DTSTAMP:20260422T195909
CREATED:20241127T220106Z
LAST-MODIFIED:20250317T125557Z
UID:10000185-1748563200-1748735999@stlouisbbqsociety.com
SUMMARY:Smokin' in the Park - 2025
DESCRIPTION:Docs\nDocs\n\nDownload a Blank Application
URL:https://stlouisbbqsociety.com/event/smokin-in-the-park-2025/
LOCATION:Turner Park\, 115 N Julia\, Smithton\, IL\, 62285\, United States
CATEGORIES:Pro Series BBQ Competition
ATTACH;FMTTYPE=image/jpeg:https://stlouisbbqsociety.com/wp-content/uploads/2024/11/event-flyer.jpg
GEO:38.409475;-89.993727
X-APPLE-STRUCTURED-LOCATION;VALUE=URI;X-ADDRESS=Turner Park 115 N Julia Smithton IL 62285 United States;X-APPLE-RADIUS=500;X-TITLE=115 N Julia:geo:-89.993727,38.409475
END:VEVENT
END:VCALENDAR