BEGIN:VCALENDAR
VERSION:2.0
PRODID:-//St. Louis BBQ Society - ECPv6.15.20//NONSGML v1.0//EN
CALSCALE:GREGORIAN
METHOD:PUBLISH
X-WR-CALNAME:St. Louis BBQ Society
X-ORIGINAL-URL:https://stlouisbbqsociety.com
X-WR-CALDESC:Events for St. Louis BBQ Society
REFRESH-INTERVAL;VALUE=DURATION:PT1H
X-Robots-Tag:noindex
X-PUBLISHED-TTL:PT1H
BEGIN:VTIMEZONE
TZID:America/Chicago
BEGIN:DAYLIGHT
TZOFFSETFROM:-0600
TZOFFSETTO:-0500
TZNAME:CDT
DTSTART:20240310T080000
END:DAYLIGHT
BEGIN:STANDARD
TZOFFSETFROM:-0500
TZOFFSETTO:-0600
TZNAME:CST
DTSTART:20241103T070000
END:STANDARD
BEGIN:DAYLIGHT
TZOFFSETFROM:-0600
TZOFFSETTO:-0500
TZNAME:CDT
DTSTART:20250309T080000
END:DAYLIGHT
BEGIN:STANDARD
TZOFFSETFROM:-0500
TZOFFSETTO:-0600
TZNAME:CST
DTSTART:20251102T070000
END:STANDARD
BEGIN:DAYLIGHT
TZOFFSETFROM:-0600
TZOFFSETTO:-0500
TZNAME:CDT
DTSTART:20260308T080000
END:DAYLIGHT
BEGIN:STANDARD
TZOFFSETFROM:-0500
TZOFFSETTO:-0600
TZNAME:CST
DTSTART:20261101T070000
END:STANDARD
BEGIN:DAYLIGHT
TZOFFSETFROM:-0600
TZOFFSETTO:-0500
TZNAME:CDT
DTSTART:20270314T080000
END:DAYLIGHT
BEGIN:STANDARD
TZOFFSETFROM:-0500
TZOFFSETTO:-0600
TZNAME:CST
DTSTART:20271107T070000
END:STANDARD
END:VTIMEZONE
BEGIN:VEVENT
DTSTART;TZID=America/Chicago:20250822T080000
DTEND;TZID=America/Chicago:20250823T170000
DTSTAMP:20260422T224906
CREATED:20250723T114324Z
LAST-MODIFIED:20250723T140228Z
UID:10000206-1755849600-1755968400@stlouisbbqsociety.com
SUMMARY:Newton American Legion Post 20 2nd Annual BBQ Competition
DESCRIPTION:The St Louis BBQ Society (SLBS) requires that you be a member in good standing to compete or judge in our events. Please visit member.stlouisbbqsociety.com to sign up\, renew\, or check your status.\n\n\n\n\n\nDo you need your team number? You can find this number on our website at: https://stlouisbbqsociety.com/team-listing.  \nIf you do not see your name on this list and this is your first contest with us\, please enter “New Team” in the team number blank.
URL:https://stlouisbbqsociety.com/event/newton-american-legion-post-20-2nd-annual-bbq-competition/
LOCATION:Jasper County Fairgrounds\, 1300 Fairgrounds Ave\,\, Newton\, IL\, 62448\, United States
CATEGORIES:Open Series BBQ Competition
ATTACH;FMTTYPE=image/png:https://stlouisbbqsociety.com/wp-content/uploads/2025/07/Newton-American-Legion-Post-20.png
END:VEVENT
BEGIN:VEVENT
DTSTART;VALUE=DATE:20250823
DTEND;VALUE=DATE:20250824
DTSTAMP:20260422T224906
CREATED:20250610T130932Z
LAST-MODIFIED:20250610T131909Z
UID:10000204-1755907200-1755993599@stlouisbbqsociety.com
SUMMARY:Staunton RibFest
DESCRIPTION:The St Louis BBQ Society (SLBS) requires that you be a member in good standing to compete or judge in our events. Please visit member.stlouisbbqsociety.com  to sign up\, renew\, or check your status. \n\n\n\nDo you need your team number? You can find this number on our website at: https://stlouisbbqsociety.com/team-listing.  \n If you do not see your name on this list and this is your first contest with us\, please enter “New Team” in the team number blank.
URL:https://stlouisbbqsociety.com/event/staunton-rib-fest-2/
LOCATION:Fireman’s Park\, 900 E Montgomery St\, Staunton\, IL\, 62088\, United States
CATEGORIES:Open Series BBQ Competition
ATTACH;FMTTYPE=image/png:https://stlouisbbqsociety.com/wp-content/uploads/2023/10/438237955_120211300903030432_526.png
GEO:39.0120773;-89.7913739
X-APPLE-STRUCTURED-LOCATION;VALUE=URI;X-ADDRESS=Fireman’s Park 900 E Montgomery St Staunton IL 62088 United States;X-APPLE-RADIUS=500;X-TITLE=900 E Montgomery St:geo:-89.7913739,39.0120773
END:VEVENT
BEGIN:VEVENT
DTSTART;TZID=America/Chicago:20251018T080000
DTEND;TZID=America/Chicago:20251018T170000
DTSTAMP:20260422T224906
CREATED:20250715T122201Z
LAST-MODIFIED:20250715T122621Z
UID:10000205-1760774400-1760806800@stlouisbbqsociety.com
SUMMARY:1st Annual Saint Ann Police Association Backyard BBQ
DESCRIPTION:The St Louis BBQ Society (SLBS) requires that you be a member in good standing to compete or judge in our events. Please visit member.stlouisbbqsociety.com to sign up\, renew\, or check your status.\n\n\n\n\n\nDo you need your team number? You can find this number on our website at: https://stlouisbbqsociety.com/team-listing.  \nIf you do not see your name on this list and this is your first contest with us\, please enter “New Team” in the team number blank.
URL:https://stlouisbbqsociety.com/event/1st-annual-saint-ann-police-association-backyard-bbq/
LOCATION:Tiemeyer Park\, 3311 Ashby Rd\, Saint Ann\, MO\, 63074\, United States
CATEGORIES:Open Series BBQ Competition
ATTACH;FMTTYPE=image/jpeg:https://stlouisbbqsociety.com/wp-content/uploads/2025/07/8517333199696235673.jpg
END:VEVENT
BEGIN:VEVENT
DTSTART;TZID=America/Chicago:20251025T070000
DTEND;TZID=America/Chicago:20251025T220000
DTSTAMP:20260422T224906
CREATED:20250816T004130Z
LAST-MODIFIED:20250828T133200Z
UID:10000215-1761375600-1761429600@stlouisbbqsociety.com
SUMMARY:West County Smokin For Veterans BBQ Bash - Open Series
DESCRIPTION:The St Louis BBQ Society (SLBS) requires that you be a member in good standing to compete or judge in our events. Please visit member.stlouisbbqsociety.com  to sign up\, renew\, or check your status. \n\n\n\nDocs\nDocs\n\nDownload a Blank Application\n\nDo you need your team number? You can find this number on our website at: https://stlouisbbqsociety.com/team-listing.  \n If you do not see your name on this list and this is your first contest with us\, please enter “New Team” in the team number blank.
URL:https://stlouisbbqsociety.com/event/west-county-smokin-for-veterans-bbq-bash-open-series/
LOCATION:Clancy’s Irish Pub\, 40 Old State Rd\, Ellisville\, MO\, 63021\, United States
CATEGORIES:Open Series BBQ Competition
ATTACH;FMTTYPE=image/png:https://stlouisbbqsociety.com/wp-content/uploads/2025/08/FB_Flyer-Smokin-for-Veterans-2025.png
ORGANIZER;CN="Paul Spuhl":MAILTO:pspuhl@moamvetsriders.org
GEO:38.588325;-90.5961292
X-APPLE-STRUCTURED-LOCATION;VALUE=URI;X-ADDRESS=Clancy’s Irish Pub 40 Old State Rd Ellisville MO 63021 United States;X-APPLE-RADIUS=500;X-TITLE=40 Old State Rd:geo:-90.5961292,38.588325
END:VEVENT
BEGIN:VEVENT
DTSTART;VALUE=DATE:20260502
DTEND;VALUE=DATE:20260503
DTSTAMP:20260422T224906
CREATED:20260204T013747Z
LAST-MODIFIED:20260205T220249Z
UID:10000241-1777680000-1777766399@stlouisbbqsociety.com
SUMMARY:Korte Meat 2nd annual Rib Burn
DESCRIPTION:The St Louis BBQ Society (SLBS) requires that you be a member in good standing to compete or judge in our events. Please visit member.stlouisbbqsociety.com  to sign up\, renew\, or check your status. \n\nRegister here: Korte Meat Double Rib Burn registration \n\nDo you need your team number? You can find this number on our website at: https://stlouisbbqsociety.com/team-listing.  \n If you do not see your name on this list and this is your first contest with us\, please enter “New Team” in the team number blank.
URL:https://stlouisbbqsociety.com/event/korte-meats-double-rib-burn/
LOCATION:Korte Meat Processing\, 915 Hemlock St.\, Highland\, IL\, 62249\, United States
CATEGORIES:Open Series BBQ Competition
ATTACH;FMTTYPE=image/jpeg:https://stlouisbbqsociety.com/wp-content/uploads/2026/02/korte-meat-rib-burn.jpg
ORGANIZER;CN="Jay Lobello":MAILTO:jaylobello@yahoo.com
END:VEVENT
BEGIN:VEVENT
DTSTART;VALUE=DATE:20260822
DTEND;VALUE=DATE:20260823
DTSTAMP:20260422T224906
CREATED:20260203T212334Z
LAST-MODIFIED:20260203T212334Z
UID:10000240-1787356800-1787443199@stlouisbbqsociety.com
SUMMARY:Staunton RibFest
DESCRIPTION:The St Louis BBQ Society (SLBS) requires that you be a member in good standing to compete or judge in our events. Please visit member.stlouisbbqsociety.com  to sign up\, renew\, or check your status \n\nDo you need your team number? You can find this number on our website at: https://stlouisbbqsociety.com/team-listing.  \n If you do not see your name on this list and this is your first contest with us\, please enter “New Team” in the team number blank.
URL:https://stlouisbbqsociety.com/event/staunton-rib-fest-2-2/
LOCATION:Fireman’s Park\, 900 E Montgomery St\, Staunton\, IL\, 62088\, United States
CATEGORIES:Open Series BBQ Competition
ATTACH;FMTTYPE=image/png:https://stlouisbbqsociety.com/wp-content/uploads/2023/10/438237955_120211300903030432_526.png
GEO:39.0120773;-89.7913739
X-APPLE-STRUCTURED-LOCATION;VALUE=URI;X-ADDRESS=Fireman’s Park 900 E Montgomery St Staunton IL 62088 United States;X-APPLE-RADIUS=500;X-TITLE=900 E Montgomery St:geo:-89.7913739,39.0120773
END:VEVENT
BEGIN:VEVENT
DTSTART;VALUE=DATE:20260829
DTEND;VALUE=DATE:20260831
DTSTAMP:20260422T224906
CREATED:20251106T210014Z
LAST-MODIFIED:20260408T115747Z
UID:10000220-1787961600-1788134399@stlouisbbqsociety.com
SUMMARY:St. Ann Pro BBQ Competition
DESCRIPTION:The St Louis BBQ Society (SLBS) requires that you be a member in good standing to compete or judge in our events. Please visit member.stlouisbbqsociety.com to sign up\, renew\, or check your status.\n\n\n\n\n\nDo you need your team number? You can find this number on our website at: https://stlouisbbqsociety.com/team-listing.  \nIf you do not see your name on this list and this is your first contest with us\, please enter “New Team” in the team number blank.
URL:https://stlouisbbqsociety.com/event/saint-ann-pro-bbq-competiton/
LOCATION:Tiemeyer Park\, 3311 Ashby Rd\, Saint Ann\, MO\, 63074\, United States
CATEGORIES:Open Series BBQ Competition
ATTACH;FMTTYPE=image/jpeg:https://stlouisbbqsociety.com/wp-content/uploads/2025/11/St-Ann-flyer-2026-1.jpg
END:VEVENT
BEGIN:VEVENT
DTSTART;TZID=America/Chicago:20260926T080000
DTEND;TZID=America/Chicago:20260927T170000
DTSTAMP:20260422T224906
CREATED:20260325T145541Z
LAST-MODIFIED:20260325T145541Z
UID:10000277-1790409600-1790528400@stlouisbbqsociety.com
SUMMARY:Hoyleton Octfest and BBQ Bash
DESCRIPTION:
URL:https://stlouisbbqsociety.com/event/hoyleton-octfest-and-bbq-bash/
LOCATION:Hoyleton Community Club\, 368 N. Park St.\, Hoyleton\, IL\, 62803\, United States
CATEGORIES:Open Series BBQ Competition
ATTACH;FMTTYPE=image/jpeg:https://stlouisbbqsociety.com/wp-content/uploads/2017/05/save-the-date.jpg
END:VEVENT
BEGIN:VEVENT
DTSTART;TZID=America/Chicago:20261107T080000
DTEND;TZID=America/Chicago:20261107T170000
DTSTAMP:20260422T224906
CREATED:20260423T000635Z
LAST-MODIFIED:20260423T000635Z
UID:10000279-1794038400-1794070800@stlouisbbqsociety.com
SUMMARY:Smokin For Veterans BBQ Bash
DESCRIPTION:
URL:https://stlouisbbqsociety.com/event/smokin-for-veterans-bbq-bash/
LOCATION:Clancy’s Irish Pub\, 40 Old State Rd\, Ellisville\, MO\, 63021\, United States
CATEGORIES:Open Series BBQ Competition
ATTACH;FMTTYPE=image/jpeg:https://stlouisbbqsociety.com/wp-content/uploads/2017/05/save-the-date.jpg
GEO:38.588325;-90.5961292
X-APPLE-STRUCTURED-LOCATION;VALUE=URI;X-ADDRESS=Clancy’s Irish Pub 40 Old State Rd Ellisville MO 63021 United States;X-APPLE-RADIUS=500;X-TITLE=40 Old State Rd:geo:-90.5961292,38.588325
END:VEVENT
END:VCALENDAR